BEGIN:VCALENDAR
VERSION:2.0
PRODID:-//Iahad - ECPv5.13.0//NONSGML v1.0//EN
CALSCALE:GREGORIAN
METHOD:PUBLISH
X-WR-CALNAME:Iahad
X-ORIGINAL-URL:https://www.iahad.org
X-WR-CALDESC:Events for Iahad
REFRESH-INTERVAL;VALUE=DURATION:PT1H
X-Robots-Tag:noindex
X-PUBLISHED-TTL:PT1H
BEGIN:VTIMEZONE
TZID:UTC
BEGIN:STANDARD
TZOFFSETFROM:+0000
TZOFFSETTO:+0000
TZNAME:UTC
DTSTART:20260101T000000
END:STANDARD
END:VTIMEZONE
BEGIN:VEVENT
DTSTART;VALUE=DATE:20260313
DTEND;VALUE=DATE:20260314
DTSTAMP:20260420T101024
CREATED:20260306T054348Z
LAST-MODIFIED:20260306T102741Z
UID:5570-1773360000-1773446399@www.iahad.org
SUMMARY:IAHAD MSK Webinar Series – 13 March 2026
DESCRIPTION:The Indian Association for Haemophilia and Allied Disorders (IAHAD) hosts a monthly educational webinar series on Haemophilia and Allied Disorders. IAHAD is delighted to invite you to the upcoming 19th Webinar of the IAHAD MSK Webinar Series\, taking place on Friday\, 13th March 2026 from 06:30 pm – 08:00 pm IST. \nFor more details: Click Here \n 
URL:https://www.iahad.org/event/iahad-msk-webinar-series-13-march-2026/
ATTACH;FMTTYPE=image/jpeg:https://www.iahad.org/jb-content/uploads/2026/03/banner.jpg
END:VEVENT
BEGIN:VEVENT
DTSTART;VALUE=DATE:20260314
DTEND;VALUE=DATE:20260316
DTSTAMP:20260420T101024
CREATED:20260203T095428Z
LAST-MODIFIED:20260204T085712Z
UID:5495-1773446400-1773619199@www.iahad.org
SUMMARY:Masterclass 2026
DESCRIPTION:Masterclass 2026 \nFor more details: Masterclass 2026
URL:https://www.iahad.org/event/masterclass-2026/
ATTACH;FMTTYPE=image/png:https://www.iahad.org/jb-content/uploads/2020/09/IAHAD-Logo-Final-1-1.png
END:VEVENT
END:VCALENDAR