BEGIN:VCALENDAR
VERSION:2.0
PRODID:-//Iahad - ECPv5.13.0//NONSGML v1.0//EN
CALSCALE:GREGORIAN
METHOD:PUBLISH
X-WR-CALNAME:Iahad
X-ORIGINAL-URL:https://www.iahad.org
X-WR-CALDESC:Events for Iahad
REFRESH-INTERVAL;VALUE=DURATION:PT1H
X-Robots-Tag:noindex
X-PUBLISHED-TTL:PT1H
BEGIN:VTIMEZONE
TZID:UTC
BEGIN:STANDARD
TZOFFSETFROM:+0000
TZOFFSETTO:+0000
TZNAME:UTC
DTSTART:20260101T000000
END:STANDARD
END:VTIMEZONE
BEGIN:VEVENT
DTSTART;VALUE=DATE:20260109
DTEND;VALUE=DATE:20260110
DTSTAMP:20260419T153138
CREATED:20260106T090156Z
LAST-MODIFIED:20260106T115536Z
UID:5473-1767916800-1768003199@www.iahad.org
SUMMARY:IAHAD Nursing Webinar Series – 09 January 2026
DESCRIPTION:The Indian Association for Haemophilia and Allied Disorders (IAHAD) hosts a monthly educational webinar series on Haemophilia and Allied Disorders. IAHAD is delighted to invite you to the upcoming Eighteenth Webinar of the IAHAD Nursing Webinar Series\, taking place on Friday\, 9th January 2026 from 06:30 pm – 08:00 pm IST. \nFor more details: Click Here \n 
URL:https://www.iahad.org/event/iahad-nursing-webinar-series-09-january-2026/
ATTACH;FMTTYPE=image/jpeg:https://www.iahad.org/jb-content/uploads/2026/01/jan-2026.jpg
END:VEVENT
END:VCALENDAR