BEGIN:VCALENDAR
VERSION:2.0
PRODID:-//Iahad - ECPv5.13.0//NONSGML v1.0//EN
CALSCALE:GREGORIAN
METHOD:PUBLISH
X-WR-CALNAME:Iahad
X-ORIGINAL-URL:https://www.iahad.org
X-WR-CALDESC:Events for Iahad
REFRESH-INTERVAL;VALUE=DURATION:PT1H
X-Robots-Tag:noindex
X-PUBLISHED-TTL:PT1H
BEGIN:VTIMEZONE
TZID:UTC
BEGIN:STANDARD
TZOFFSETFROM:+0000
TZOFFSETTO:+0000
TZNAME:UTC
DTSTART:20250101T000000
END:STANDARD
END:VTIMEZONE
BEGIN:VEVENT
DTSTART;VALUE=DATE:20251206
DTEND;VALUE=DATE:20251210
DTSTAMP:20260419T140223
CREATED:20250122T093722Z
LAST-MODIFIED:20250124T092852Z
UID:4546-1764979200-1765324799@www.iahad.org
SUMMARY:ASH Annual Meeting 2025
DESCRIPTION:The in-person portion of the 66th ASH Annual Meeting and Exposition has concluded. Register for our virtual experience and receive on-demand extended access to sessions! \nFor more details: ASH Annual Meeting 2025 \n  \n 
URL:https://www.iahad.org/event/ash-annual-meeting-2025-6-to-9-december-2025/
ATTACH;FMTTYPE=image/png:https://www.iahad.org/jb-content/uploads/2025/01/ash-67th-1300x220-1029b.png
END:VEVENT
BEGIN:VEVENT
DTSTART;VALUE=DATE:20251212
DTEND;VALUE=DATE:20251213
DTSTAMP:20260419T140223
CREATED:20251202T064542Z
LAST-MODIFIED:20251202T070144Z
UID:5461-1765497600-1765583999@www.iahad.org
SUMMARY:IAHAD Webinar Series – 12 December 2025
DESCRIPTION:The Indian Association for Haemophilia and Allied Disorders (IAHAD) hosts a monthly educational webinar series on Haemophilia and Allied Disorders. IAHAD is delighted to invite you to the upcoming Thirty Fifth Webinar of the IAHAD Webinar Series\, taking place on Friday\, 12th December 2025 from 06:30 pm – 08:00 pm IST. \nFor more details: Click Here \n  \n 
URL:https://www.iahad.org/event/iahad-webinar-series-12-december-2025/
ATTACH;FMTTYPE=image/png:https://www.iahad.org/jb-content/uploads/2025/12/dec-month.png
END:VEVENT
END:VCALENDAR