BEGIN:VCALENDAR
VERSION:2.0
PRODID:-//Iahad - ECPv5.13.0//NONSGML v1.0//EN
CALSCALE:GREGORIAN
METHOD:PUBLISH
X-WR-CALNAME:Iahad
X-ORIGINAL-URL:https://www.iahad.org
X-WR-CALDESC:Events for Iahad
REFRESH-INTERVAL;VALUE=DURATION:PT1H
X-Robots-Tag:noindex
X-PUBLISHED-TTL:PT1H
BEGIN:VTIMEZONE
TZID:UTC
BEGIN:STANDARD
TZOFFSETFROM:+0000
TZOFFSETTO:+0000
TZNAME:UTC
DTSTART:20250101T000000
END:STANDARD
END:VTIMEZONE
BEGIN:VEVENT
DTSTART;TZID=UTC:20250620T183000
DTEND;TZID=UTC:20250620T200000
DTSTAMP:20260419T211314
CREATED:20250616T104636Z
LAST-MODIFIED:20250617T052713Z
UID:5059-1750444200-1750449600@www.iahad.org
SUMMARY:IAHAD Webinar Series – 20 June 2025
DESCRIPTION:The Indian Association for Haemophilia and Allied Disorders (IAHAD) hosts a monthly educational webinar series on Haemophilia and Allied Disorders. IAHAD is delighted to invite you to the upcoming Thirty third Webinar of the IAHAD Webinar Series\, taking place on Friday\, 20th June 2025 from 06:30 pm – 08:00 pm IST. \nFor more details:Click Here
URL:https://www.iahad.org/event/iahad-webinar-series-20-june-2025/
ATTACH;FMTTYPE=image/jpeg:https://www.iahad.org/jb-content/uploads/2025/06/Capture.jpg
END:VEVENT
BEGIN:VEVENT
DTSTART;VALUE=DATE:20250621
DTEND;VALUE=DATE:20250626
DTSTAMP:20260419T211314
CREATED:20250122T090407Z
LAST-MODIFIED:20250122T105600Z
UID:4541-1750464000-1750895999@www.iahad.org
SUMMARY:ISTH Congress 2025
DESCRIPTION:The ISTH 2025 Congress is expected to be the premier gathering place for the world’s experts in thrombosis and hemostasis.  \nISTH Congress 2025. click here
URL:https://www.iahad.org/event/isth-congress-2025-21-to-25-june-2025/
ATTACH;FMTTYPE=image/png:https://www.iahad.org/jb-content/uploads/2025/01/Screenshot-2025-01-22-142126.png
END:VEVENT
END:VCALENDAR