BEGIN:VCALENDAR
VERSION:2.0
PRODID:-//Iahad - ECPv5.13.0//NONSGML v1.0//EN
CALSCALE:GREGORIAN
METHOD:PUBLISH
X-WR-CALNAME:Iahad
X-ORIGINAL-URL:https://www.iahad.org
X-WR-CALDESC:Events for Iahad
REFRESH-INTERVAL;VALUE=DURATION:PT1H
X-Robots-Tag:noindex
X-PUBLISHED-TTL:PT1H
BEGIN:VTIMEZONE
TZID:UTC
BEGIN:STANDARD
TZOFFSETFROM:+0000
TZOFFSETTO:+0000
TZNAME:UTC
DTSTART:20250101T000000
END:STANDARD
END:VTIMEZONE
BEGIN:VEVENT
DTSTART;VALUE=DATE:20250204
DTEND;VALUE=DATE:20250208
DTSTAMP:20260420T114607
CREATED:20250122T071258Z
LAST-MODIFIED:20250124T091636Z
UID:4525-1738627200-1738972799@www.iahad.org
SUMMARY:EAHAD Congress 2025
DESCRIPTION:The European Association for Haemophilia and Allied Disorders (EAHAD) is organizing its 18th Annual Congress in Milan\, Italy from 4-7 February 2025. \n\n\nFor more details: EAHAD Congress 2025
URL:https://www.iahad.org/event/eahad-congress-2025-4-to-7-february-2025/
ATTACH;FMTTYPE=image/jpeg:https://www.iahad.org/jb-content/uploads/2025/01/Capture.jpg
END:VEVENT
BEGIN:VEVENT
DTSTART;TZID=UTC:20250214T183000
DTEND;TZID=UTC:20250214T200000
DTSTAMP:20260420T114607
CREATED:20250206T065907Z
LAST-MODIFIED:20250206T071204Z
UID:4624-1739557800-1739563200@www.iahad.org
SUMMARY:IAHAD Webinar Series February 2025
DESCRIPTION:The Indian Association for Haemophilia and Allied Disorders (IAHAD) hosts a monthly educational webinar series on Haemophilia and Allied Disorders. IAHAD is delighted to invite you to the upcoming Thirty First Webinar of the IAHAD Webinar Series\, taking place on Friday\, 14th February 2024\, from 06:30 pm – 08:00 pm IST. \nFor more detail: click here
URL:https://www.iahad.org/event/iahad-webinar-series-february-2025/
ATTACH;FMTTYPE=image/png:https://www.iahad.org/jb-content/uploads/2025/02/iahad.png
END:VEVENT
END:VCALENDAR