BEGIN:VCALENDAR
VERSION:2.0
PRODID:-//Iahad - ECPv5.13.0//NONSGML v1.0//EN
CALSCALE:GREGORIAN
METHOD:PUBLISH
X-WR-CALNAME:Iahad
X-ORIGINAL-URL:https://www.iahad.org
X-WR-CALDESC:Events for Iahad
REFRESH-INTERVAL;VALUE=DURATION:PT1H
X-Robots-Tag:noindex
X-PUBLISHED-TTL:PT1H
BEGIN:VTIMEZONE
TZID:UTC
BEGIN:STANDARD
TZOFFSETFROM:+0000
TZOFFSETTO:+0000
TZNAME:UTC
DTSTART:20260101T000000
END:STANDARD
END:VTIMEZONE
BEGIN:VEVENT
DTSTART;TZID=UTC:20260213T183000
DTEND;TZID=UTC:20260213T200000
DTSTAMP:20260421T081725
CREATED:20260203T092314Z
LAST-MODIFIED:20260204T085104Z
UID:5485-1771007400-1771012800@www.iahad.org
SUMMARY:IAHAD Webinar Series February 2026
DESCRIPTION:The Indian Association for Haemophilia and Allied Disorders (IAHAD) hosts a monthly educational webinar series on Haemophilia and Allied Disorders. IAHAD is delighted to invite you to the upcoming Thirty Sixth Webinar of the IAHAD Webinar Series\, taking place on Friday\, 13th February 2026 from 06:30 pm – 08:00 pm IST. \nFor more detail: click here
URL:https://www.iahad.org/event/iahad-webinar-series-february-2026/
ATTACH;FMTTYPE=image/jpeg:https://www.iahad.org/jb-content/uploads/2026/02/banner.jpg
END:VEVENT
END:VCALENDAR