BEGIN:VCALENDAR
VERSION:2.0
PRODID:-//Iahad - ECPv5.13.0//NONSGML v1.0//EN
CALSCALE:GREGORIAN
METHOD:PUBLISH
X-WR-CALNAME:Iahad
X-ORIGINAL-URL:https://www.iahad.org
X-WR-CALDESC:Events for Iahad
REFRESH-INTERVAL;VALUE=DURATION:PT1H
X-Robots-Tag:noindex
X-PUBLISHED-TTL:PT1H
BEGIN:VTIMEZONE
TZID:UTC
BEGIN:STANDARD
TZOFFSETFROM:+0000
TZOFFSETTO:+0000
TZNAME:UTC
DTSTART:20260101T000000
END:STANDARD
END:VTIMEZONE
BEGIN:VEVENT
DTSTART;VALUE=DATE:20260203
DTEND;VALUE=DATE:20260207
DTSTAMP:20260421T081727
CREATED:20260203T094957Z
LAST-MODIFIED:20260203T094957Z
UID:5492-1770076800-1770422399@www.iahad.org
SUMMARY:EAHAD Congress 2026
DESCRIPTION:The annual congress is the cornerstone of EAHAD’s mission to ensure the highest quality care for those living with haemophilia and other bleeding disorders\, through multidisciplinary collaboration\, research and education. Innovative solutions to improve clinical care and health outcomes are discovered and implemented by working in partnership with people and families living with bleeding disorders\, healthcare providers\, institutions\, and academia. \nFor more details: EAHAD Congress 2026
URL:https://www.iahad.org/event/eahad-congress-2026/
ATTACH;FMTTYPE=image/png:https://www.iahad.org/jb-content/uploads/2026/02/feb.png
END:VEVENT
END:VCALENDAR