BEGIN:VCALENDAR
VERSION:2.0
PRODID:-//Iahad - ECPv5.13.0//NONSGML v1.0//EN
CALSCALE:GREGORIAN
METHOD:PUBLISH
X-WR-CALNAME:Iahad
X-ORIGINAL-URL:https://www.iahad.org
X-WR-CALDESC:Events for Iahad
REFRESH-INTERVAL;VALUE=DURATION:PT1H
X-Robots-Tag:noindex
X-PUBLISHED-TTL:PT1H
BEGIN:VTIMEZONE
TZID:UTC
BEGIN:STANDARD
TZOFFSETFROM:+0000
TZOFFSETTO:+0000
TZNAME:UTC
DTSTART:20250101T000000
END:STANDARD
END:VTIMEZONE
BEGIN:VEVENT
DTSTART;TZID=UTC:20250919T183000
DTEND;TZID=UTC:20250919T200000
DTSTAMP:20260419T174121
CREATED:20250904T101018Z
LAST-MODIFIED:20250904T102612Z
UID:5384-1758306600-1758312000@www.iahad.org
SUMMARY:IAHAD Nursing Webinar Series – 19 September 2025
DESCRIPTION:The Indian Association for Haemophilia and Allied Disorders (IAHAD) hosts a monthly educational webinar series on Haemophilia and Allied Disorders. IAHAD is delighted to invite you to the upcoming Sixteenth Webinar of the IAHAD Nursing Webinar Series\, taking place on Friday\, 19th September 2025 from 06:30 pm – 08:00 pm IST. \nFor more details: Click Here \n  \n 
URL:https://www.iahad.org/event/iahad-nursing-webinar-series-19-september-2025/
ATTACH;FMTTYPE=image/png:https://www.iahad.org/jb-content/uploads/2025/09/iahad.png
END:VEVENT
END:VCALENDAR