BEGIN:VCALENDAR
VERSION:2.0
PRODID:-//Iahad - ECPv5.13.0//NONSGML v1.0//EN
CALSCALE:GREGORIAN
METHOD:PUBLISH
X-WR-CALNAME:Iahad
X-ORIGINAL-URL:https://www.iahad.org
X-WR-CALDESC:Events for Iahad
REFRESH-INTERVAL;VALUE=DURATION:PT1H
X-Robots-Tag:noindex
X-PUBLISHED-TTL:PT1H
BEGIN:VTIMEZONE
TZID:UTC
BEGIN:STANDARD
TZOFFSETFROM:+0000
TZOFFSETTO:+0000
TZNAME:UTC
DTSTART:20250101T000000
END:STANDARD
END:VTIMEZONE
BEGIN:VEVENT
DTSTART;VALUE=DATE:20250911
DTEND;VALUE=DATE:20250915
DTSTAMP:20260419T192110
CREATED:20250122T091305Z
LAST-MODIFIED:20250417T051935Z
UID:4544-1757548800-1757894399@www.iahad.org
SUMMARY:AHAD-AP Annual Scientific Meeting
DESCRIPTION:AHAD-AP Workshops\, September 11-14\, 2025\, Taipei \n\n\nFor more details:AHAD-AP Workshops \n\n\n 
URL:https://www.iahad.org/event/ahad-ap-annual-scientific-meeting-11-to-14-september2025/
ATTACH;FMTTYPE=image/jpeg:https://www.iahad.org/jb-content/uploads/2025/01/Workshop-2025-Esignature.jpg
END:VEVENT
END:VCALENDAR