BEGIN:VCALENDAR
VERSION:2.0
PRODID:-//Iahad - ECPv5.13.0//NONSGML v1.0//EN
CALSCALE:GREGORIAN
METHOD:PUBLISH
X-WR-CALNAME:Iahad
X-ORIGINAL-URL:https://www.iahad.org
X-WR-CALDESC:Events for Iahad
REFRESH-INTERVAL;VALUE=DURATION:PT1H
X-Robots-Tag:noindex
X-PUBLISHED-TTL:PT1H
BEGIN:VTIMEZONE
TZID:UTC
BEGIN:STANDARD
TZOFFSETFROM:+0000
TZOFFSETTO:+0000
TZNAME:UTC
DTSTART:20250101T000000
END:STANDARD
END:VTIMEZONE
BEGIN:VEVENT
DTSTART;VALUE=DATE:20250802
DTEND;VALUE=DATE:20250804
DTSTAMP:20260419T191914
CREATED:20250417T045840Z
LAST-MODIFIED:20250708T094639Z
UID:4859-1754092800-1754265599@www.iahad.org
SUMMARY:NHU 2025
DESCRIPTION:It is our pleasure to welcome you to the 14th National Haemostasis Update (NHU 2025) organized by the Indian Association for Haemophilia and Allied Disorders (IAHAD) to be held at the The Chancery Pavilion from August 2-3\, 2025. \nFor more details:Click Here
URL:https://www.iahad.org/event/nhu-2025/
ATTACH;FMTTYPE=image/jpeg:https://www.iahad.org/jb-content/uploads/2025/04/NHU-Web-Banner-2-1.jpg
END:VEVENT
END:VCALENDAR