BEGIN:VCALENDAR
VERSION:2.0
PRODID:-//Iahad - ECPv5.13.0//NONSGML v1.0//EN
CALSCALE:GREGORIAN
METHOD:PUBLISH
X-WR-CALNAME:Iahad
X-ORIGINAL-URL:https://www.iahad.org
X-WR-CALDESC:Events for Iahad
REFRESH-INTERVAL;VALUE=DURATION:PT1H
X-Robots-Tag:noindex
X-PUBLISHED-TTL:PT1H
BEGIN:VTIMEZONE
TZID:UTC
BEGIN:STANDARD
TZOFFSETFROM:+0000
TZOFFSETTO:+0000
TZNAME:UTC
DTSTART:20250101T000000
END:STANDARD
END:VTIMEZONE
BEGIN:VEVENT
DTSTART;VALUE=DATE:20250801
DTEND;VALUE=DATE:20250803
DTSTAMP:20260419T191941
CREATED:20250417T051329Z
LAST-MODIFIED:20250502T055210Z
UID:4864-1754006400-1754179199@www.iahad.org
SUMMARY:NHCM 2025
DESCRIPTION:It is our privilege to welcome you to the 10th National Haemophilia Care Meeting (NHCM 2025)\, organized by the Indian Association for Haemophilia and Allied Disorders (IAHAD) to be held from August 1-2\, 2025 in Bengaluru. \nFor more details:Click Here
URL:https://www.iahad.org/event/nhcm-2025/
ATTACH;FMTTYPE=image/jpeg:https://www.iahad.org/jb-content/uploads/2025/04/NHCM—Web-banner-2-1-1.jpg
END:VEVENT
END:VCALENDAR